BEGIN:VCALENDAR
VERSION:2.0
PRODID:-//Bürgerschützen Beckum - ECPv6.15.20//NONSGML v1.0//EN
CALSCALE:GREGORIAN
METHOD:PUBLISH
X-WR-CALNAME:Bürgerschützen Beckum
X-ORIGINAL-URL:https://www.xn--brgerschtzen-beckum-59bh.de
X-WR-CALDESC:Veranstaltungen für Bürgerschützen Beckum
REFRESH-INTERVAL;VALUE=DURATION:PT1H
X-Robots-Tag:noindex
X-PUBLISHED-TTL:PT1H
BEGIN:VTIMEZONE
TZID:Europe/Berlin
BEGIN:DAYLIGHT
TZOFFSETFROM:+0100
TZOFFSETTO:+0200
TZNAME:CEST
DTSTART:20220327T010000
END:DAYLIGHT
BEGIN:STANDARD
TZOFFSETFROM:+0200
TZOFFSETTO:+0100
TZNAME:CET
DTSTART:20221030T010000
END:STANDARD
BEGIN:DAYLIGHT
TZOFFSETFROM:+0100
TZOFFSETTO:+0200
TZNAME:CEST
DTSTART:20230326T010000
END:DAYLIGHT
BEGIN:STANDARD
TZOFFSETFROM:+0200
TZOFFSETTO:+0100
TZNAME:CET
DTSTART:20231029T010000
END:STANDARD
BEGIN:DAYLIGHT
TZOFFSETFROM:+0100
TZOFFSETTO:+0200
TZNAME:CEST
DTSTART:20240331T010000
END:DAYLIGHT
BEGIN:STANDARD
TZOFFSETFROM:+0200
TZOFFSETTO:+0100
TZNAME:CET
DTSTART:20241027T010000
END:STANDARD
END:VTIMEZONE
BEGIN:VEVENT
DTSTART;VALUE=DATE:20230930
DTEND;VALUE=DATE:20231001
DTSTAMP:20260419T153946
CREATED:20230313T113620Z
LAST-MODIFIED:20230313T113620Z
UID:1489-1696032000-1696118399@www.xn--brgerschtzen-beckum-59bh.de
SUMMARY:König der Könige 2023
DESCRIPTION:
URL:https://www.xn--brgerschtzen-beckum-59bh.de/event/koenig-der-koenige-2023/
LOCATION:NRW
END:VEVENT
END:VCALENDAR