BEGIN:VCALENDAR
VERSION:2.0
PRODID:-//Bürgerschützen Beckum - ECPv6.15.20//NONSGML v1.0//EN
CALSCALE:GREGORIAN
METHOD:PUBLISH
X-WR-CALNAME:Bürgerschützen Beckum
X-ORIGINAL-URL:https://www.xn--brgerschtzen-beckum-59bh.de
X-WR-CALDESC:Veranstaltungen für Bürgerschützen Beckum
REFRESH-INTERVAL;VALUE=DURATION:PT1H
X-Robots-Tag:noindex
X-PUBLISHED-TTL:PT1H
BEGIN:VTIMEZONE
TZID:Europe/Berlin
BEGIN:DAYLIGHT
TZOFFSETFROM:+0100
TZOFFSETTO:+0200
TZNAME:CEST
DTSTART:20220327T010000
END:DAYLIGHT
BEGIN:STANDARD
TZOFFSETFROM:+0200
TZOFFSETTO:+0100
TZNAME:CET
DTSTART:20221030T010000
END:STANDARD
BEGIN:DAYLIGHT
TZOFFSETFROM:+0100
TZOFFSETTO:+0200
TZNAME:CEST
DTSTART:20230326T010000
END:DAYLIGHT
BEGIN:STANDARD
TZOFFSETFROM:+0200
TZOFFSETTO:+0100
TZNAME:CET
DTSTART:20231029T010000
END:STANDARD
BEGIN:DAYLIGHT
TZOFFSETFROM:+0100
TZOFFSETTO:+0200
TZNAME:CEST
DTSTART:20240331T010000
END:DAYLIGHT
BEGIN:STANDARD
TZOFFSETFROM:+0200
TZOFFSETTO:+0100
TZNAME:CET
DTSTART:20241027T010000
END:STANDARD
END:VTIMEZONE
BEGIN:VEVENT
DTSTART;VALUE=DATE:20230707
DTEND;VALUE=DATE:20230710
DTSTAMP:20260419T190521
CREATED:20230313T113559Z
LAST-MODIFIED:20230608T194527Z
UID:1487-1688688000-1688947199@www.xn--brgerschtzen-beckum-59bh.de
SUMMARY:Schützenfest 2023
DESCRIPTION:Freitag\, 07. Juli 2023\n\n18.00 Uhr: Festgottesdienst in der Christus-Kirche unter Mitwirkung des Musikzuges der Freiwilligen Feuerwehr Oelde.\n19.00 Uhr: Antreten des Bataillons auf dem Marktplatz. Gedenkfeier am Ehrenmal.\n20.00 Uhr: Schützenkommers im Kolpinghaus. Verleihung von Orden und Pokalen.\n23.00 Uhr: Großer Zapfenstreich im Fackelschein auf dem Marktplatz.\n\nSamstag\, 08. Juli 2023\n\n17.00 Uhr: Sektempfang Ihrer Majestät Birgit II. im Festzelt für die Damen der Schützenbrüder.\n17.00 Uhr: Antreten des Bataillons an der Soestwarte Höxberg\, Abmarsch zum Festgelände.\n17.15 Uhr: Platzkonzert der Musikzüge auf dem Festplatz bei Nettebrock.\n19.15 Uhr: Großes Antreten des Bataillons auf dem Festplatz zu Ehren der Majestäten.\n20.00 Uhr: Eröffnung des Königsballs. Begrüßung der Gäste.\n\nSonntag\, 09. Juli 2023\n\n10.00 Uhr: Antreten des Bataillons auf dem Festplatz bei Nettebrock.\n10.15 Uhr: Gemeinsames Frühstück der Schützen im Festzelt. Frühstücksbuffet\nfür die Damen im Restaurant-Hotel „Zur Windmühle“ (Reservierungspflicht).\n11.30 Uhr: Schießen der Jungschützen um Insignien- und Königswürde.\n13.00 Uhr: Großes Biwak der Schützen.\n13.30 Uhr: Schießen der Altschützen um Insignien- und Königswürde.\n16.30 Uhr: Antreten des Bataillons. Feierliche Proklamation der neue Majestätenpaare. Vorstellung der Throngesellschaft und Thronpaare. Verleihung der Insignien-Orden. Ehrung der erfolgreichen Damenschützen.\ndanach: Übergang in den fröhlichen Dämmerschoppen
URL:https://www.xn--brgerschtzen-beckum-59bh.de/event/schuetzenfest-2023/
LOCATION:NRW
END:VEVENT
END:VCALENDAR