BEGIN:VCALENDAR
VERSION:2.0
PRODID:-//Bürgerschützen Beckum - ECPv6.15.20//NONSGML v1.0//EN
CALSCALE:GREGORIAN
METHOD:PUBLISH
X-WR-CALNAME:Bürgerschützen Beckum
X-ORIGINAL-URL:https://www.xn--brgerschtzen-beckum-59bh.de
X-WR-CALDESC:Veranstaltungen für Bürgerschützen Beckum
REFRESH-INTERVAL;VALUE=DURATION:PT1H
X-Robots-Tag:noindex
X-PUBLISHED-TTL:PT1H
BEGIN:VTIMEZONE
TZID:Europe/Berlin
BEGIN:DAYLIGHT
TZOFFSETFROM:+0100
TZOFFSETTO:+0200
TZNAME:CEST
DTSTART:20220327T010000
END:DAYLIGHT
BEGIN:STANDARD
TZOFFSETFROM:+0200
TZOFFSETTO:+0100
TZNAME:CET
DTSTART:20221030T010000
END:STANDARD
BEGIN:DAYLIGHT
TZOFFSETFROM:+0100
TZOFFSETTO:+0200
TZNAME:CEST
DTSTART:20230326T010000
END:DAYLIGHT
BEGIN:STANDARD
TZOFFSETFROM:+0200
TZOFFSETTO:+0100
TZNAME:CET
DTSTART:20231029T010000
END:STANDARD
BEGIN:DAYLIGHT
TZOFFSETFROM:+0100
TZOFFSETTO:+0200
TZNAME:CEST
DTSTART:20240331T010000
END:DAYLIGHT
BEGIN:STANDARD
TZOFFSETFROM:+0200
TZOFFSETTO:+0100
TZNAME:CET
DTSTART:20241027T010000
END:STANDARD
END:VTIMEZONE
BEGIN:VEVENT
DTSTART;VALUE=DATE:20230325
DTEND;VALUE=DATE:20230326
DTSTAMP:20260420T021332
CREATED:20220718T203843Z
LAST-MODIFIED:20230313T113308Z
UID:1423-1679702400-1679788799@www.xn--brgerschtzen-beckum-59bh.de
SUMMARY:Frühlingsfest 2023
DESCRIPTION:Liebe Bürgerschützen und Freunde des Vereins\, \nzu unserem Frühlingsfest im 111. Vereinsjahr am Samstag\, den 25. März 2023 ab 20.00 Uhr im großen Festsaal des Kolpinghauses\, laden wir hiermit ganz herzlich ein. \nUnser Königspaar nebst Throngesellschaft und Jungkönigspaar haben wieder für einen stimmungsvollen und fröhlichen Abend gesorgt. Die Majestäten Jochen I. Schlechter und Birgit II. Marschel mit Hofstaat sowie unsere Jungmajestäten Tim und Lena freuen sich auf einen vollen Saal und einen tollen Abend mit Euch. \nMit einem Schützengruß und dreifachen Horrido\nBürgerschützenverein e.V. Beckum\nMajestäten u. Hofstaat\nDer Vorstand
URL:https://www.xn--brgerschtzen-beckum-59bh.de/event/fruehlingsfest-2023/
LOCATION:Kolpinghaus Beckum\, Clemens-August-Str. 10\, Beckum\, 59269\, Deutschland
END:VEVENT
END:VCALENDAR